BEGIN:VCALENDAR
VERSION:2.0
PRODID:-//Yara - ECPv6.15.20//NONSGML v1.0//EN
CALSCALE:GREGORIAN
METHOD:PUBLISH
X-ORIGINAL-URL:https://yaranyc.com
X-WR-CALDESC:Events for Yara
REFRESH-INTERVAL;VALUE=DURATION:PT1H
X-Robots-Tag:noindex
X-PUBLISHED-TTL:PT1H
BEGIN:VTIMEZONE
TZID:America/New_York
BEGIN:DAYLIGHT
TZOFFSETFROM:-0500
TZOFFSETTO:-0400
TZNAME:EDT
DTSTART:20260308T070000
END:DAYLIGHT
BEGIN:STANDARD
TZOFFSETFROM:-0400
TZOFFSETTO:-0500
TZNAME:EST
DTSTART:20261101T060000
END:STANDARD
BEGIN:DAYLIGHT
TZOFFSETFROM:-0500
TZOFFSETTO:-0400
TZNAME:EDT
DTSTART:20270314T070000
END:DAYLIGHT
BEGIN:STANDARD
TZOFFSETFROM:-0400
TZOFFSETTO:-0500
TZNAME:EST
DTSTART:20271107T060000
END:STANDARD
BEGIN:DAYLIGHT
TZOFFSETFROM:-0500
TZOFFSETTO:-0400
TZNAME:EDT
DTSTART:20280312T070000
END:DAYLIGHT
BEGIN:STANDARD
TZOFFSETFROM:-0400
TZOFFSETTO:-0500
TZNAME:EST
DTSTART:20281105T060000
END:STANDARD
END:VTIMEZONE
BEGIN:VEVENT
DTSTART;TZID=America/New_York:20270824T190000
DTEND;TZID=America/New_York:20270824T210000
DTSTAMP:20260419T221751
CREATED:20211006T173711Z
LAST-MODIFIED:20211006T173711Z
UID:1682-1819134000-1819141200@yaranyc.com
SUMMARY:Stand-Up Comedy
DESCRIPTION:Stand-Up comedy in bar and lounge at 7pm
URL:https://yaranyc.com/event/stand-up-comedy/2027-08-24/
END:VEVENT
BEGIN:VEVENT
DTSTART;TZID=America/New_York:20270825T183000
DTEND;TZID=America/New_York:20270825T213000
DTSTAMP:20260419T221751
CREATED:20211006T174202Z
LAST-MODIFIED:20211006T174202Z
UID:1683-1819218600-1819229400@yaranyc.com
SUMMARY:Live Jazz in the Lounge
DESCRIPTION:Live Jazz in the Lounge every Wednesday
URL:https://yaranyc.com/event/live-jazz-in-the-lounge/2027-08-25/
END:VEVENT
BEGIN:VEVENT
DTSTART;TZID=America/New_York:20270831T190000
DTEND;TZID=America/New_York:20270831T210000
DTSTAMP:20260419T221751
CREATED:20211006T173711Z
LAST-MODIFIED:20211006T173711Z
UID:1684-1819738800-1819746000@yaranyc.com
SUMMARY:Stand-Up Comedy
DESCRIPTION:Stand-Up comedy in bar and lounge at 7pm
URL:https://yaranyc.com/event/stand-up-comedy/2027-08-31/
END:VEVENT
BEGIN:VEVENT
DTSTART;TZID=America/New_York:20270901T183000
DTEND;TZID=America/New_York:20270901T213000
DTSTAMP:20260419T221751
CREATED:20211006T174202Z
LAST-MODIFIED:20211006T174202Z
UID:1685-1819823400-1819834200@yaranyc.com
SUMMARY:Live Jazz in the Lounge
DESCRIPTION:Live Jazz in the Lounge every Wednesday
URL:https://yaranyc.com/event/live-jazz-in-the-lounge/2027-09-01/
END:VEVENT
BEGIN:VEVENT
DTSTART;TZID=America/New_York:20270907T190000
DTEND;TZID=America/New_York:20270907T210000
DTSTAMP:20260419T221751
CREATED:20211006T173711Z
LAST-MODIFIED:20211006T173711Z
UID:1686-1820343600-1820350800@yaranyc.com
SUMMARY:Stand-Up Comedy
DESCRIPTION:Stand-Up comedy in bar and lounge at 7pm
URL:https://yaranyc.com/event/stand-up-comedy/2027-09-07/
END:VEVENT
BEGIN:VEVENT
DTSTART;TZID=America/New_York:20270908T183000
DTEND;TZID=America/New_York:20270908T213000
DTSTAMP:20260419T221751
CREATED:20211006T174202Z
LAST-MODIFIED:20211006T174202Z
UID:1687-1820428200-1820439000@yaranyc.com
SUMMARY:Live Jazz in the Lounge
DESCRIPTION:Live Jazz in the Lounge every Wednesday
URL:https://yaranyc.com/event/live-jazz-in-the-lounge/2027-09-08/
END:VEVENT
BEGIN:VEVENT
DTSTART;TZID=America/New_York:20270914T190000
DTEND;TZID=America/New_York:20270914T210000
DTSTAMP:20260419T221751
CREATED:20211006T173711Z
LAST-MODIFIED:20211006T173711Z
UID:1688-1820948400-1820955600@yaranyc.com
SUMMARY:Stand-Up Comedy
DESCRIPTION:Stand-Up comedy in bar and lounge at 7pm
URL:https://yaranyc.com/event/stand-up-comedy/2027-09-14/
END:VEVENT
BEGIN:VEVENT
DTSTART;TZID=America/New_York:20270915T183000
DTEND;TZID=America/New_York:20270915T213000
DTSTAMP:20260419T221751
CREATED:20211006T174202Z
LAST-MODIFIED:20211006T174202Z
UID:1689-1821033000-1821043800@yaranyc.com
SUMMARY:Live Jazz in the Lounge
DESCRIPTION:Live Jazz in the Lounge every Wednesday
URL:https://yaranyc.com/event/live-jazz-in-the-lounge/2027-09-15/
END:VEVENT
BEGIN:VEVENT
DTSTART;TZID=America/New_York:20270921T190000
DTEND;TZID=America/New_York:20270921T210000
DTSTAMP:20260419T221751
CREATED:20211006T173711Z
LAST-MODIFIED:20211006T173711Z
UID:1698-1821553200-1821560400@yaranyc.com
SUMMARY:Stand-Up Comedy
DESCRIPTION:Stand-Up comedy in bar and lounge at 7pm
URL:https://yaranyc.com/event/stand-up-comedy/2027-09-21/
END:VEVENT
BEGIN:VEVENT
DTSTART;TZID=America/New_York:20270922T183000
DTEND;TZID=America/New_York:20270922T213000
DTSTAMP:20260419T221751
CREATED:20211006T174202Z
LAST-MODIFIED:20211006T174202Z
UID:1699-1821637800-1821648600@yaranyc.com
SUMMARY:Live Jazz in the Lounge
DESCRIPTION:Live Jazz in the Lounge every Wednesday
URL:https://yaranyc.com/event/live-jazz-in-the-lounge/2027-09-22/
END:VEVENT
BEGIN:VEVENT
DTSTART;TZID=America/New_York:20270928T190000
DTEND;TZID=America/New_York:20270928T210000
DTSTAMP:20260419T221751
CREATED:20211006T173711Z
LAST-MODIFIED:20211006T173711Z
UID:1715-1822158000-1822165200@yaranyc.com
SUMMARY:Stand-Up Comedy
DESCRIPTION:Stand-Up comedy in bar and lounge at 7pm
URL:https://yaranyc.com/event/stand-up-comedy/2027-09-28/
END:VEVENT
BEGIN:VEVENT
DTSTART;TZID=America/New_York:20270929T183000
DTEND;TZID=America/New_York:20270929T213000
DTSTAMP:20260419T221751
CREATED:20211006T174202Z
LAST-MODIFIED:20211006T174202Z
UID:1716-1822242600-1822253400@yaranyc.com
SUMMARY:Live Jazz in the Lounge
DESCRIPTION:Live Jazz in the Lounge every Wednesday
URL:https://yaranyc.com/event/live-jazz-in-the-lounge/2027-09-29/
END:VEVENT
BEGIN:VEVENT
DTSTART;TZID=America/New_York:20271005T190000
DTEND;TZID=America/New_York:20271005T210000
DTSTAMP:20260419T221751
CREATED:20211006T173711Z
LAST-MODIFIED:20211006T173711Z
UID:1717-1822762800-1822770000@yaranyc.com
SUMMARY:Stand-Up Comedy
DESCRIPTION:Stand-Up comedy in bar and lounge at 7pm
URL:https://yaranyc.com/event/stand-up-comedy/2027-10-05/
END:VEVENT
BEGIN:VEVENT
DTSTART;TZID=America/New_York:20271006T183000
DTEND;TZID=America/New_York:20271006T213000
DTSTAMP:20260419T221751
CREATED:20211006T174202Z
LAST-MODIFIED:20211006T174202Z
UID:1718-1822847400-1822858200@yaranyc.com
SUMMARY:Live Jazz in the Lounge
DESCRIPTION:Live Jazz in the Lounge every Wednesday
URL:https://yaranyc.com/event/live-jazz-in-the-lounge/2027-10-06/
END:VEVENT
BEGIN:VEVENT
DTSTART;TZID=America/New_York:20271012T190000
DTEND;TZID=America/New_York:20271012T210000
DTSTAMP:20260419T221751
CREATED:20211006T173711Z
LAST-MODIFIED:20211006T173711Z
UID:1719-1823367600-1823374800@yaranyc.com
SUMMARY:Stand-Up Comedy
DESCRIPTION:Stand-Up comedy in bar and lounge at 7pm
URL:https://yaranyc.com/event/stand-up-comedy/2027-10-12/
END:VEVENT
BEGIN:VEVENT
DTSTART;TZID=America/New_York:20271013T183000
DTEND;TZID=America/New_York:20271013T213000
DTSTAMP:20260419T221751
CREATED:20211006T174202Z
LAST-MODIFIED:20211006T174202Z
UID:1720-1823452200-1823463000@yaranyc.com
SUMMARY:Live Jazz in the Lounge
DESCRIPTION:Live Jazz in the Lounge every Wednesday
URL:https://yaranyc.com/event/live-jazz-in-the-lounge/2027-10-13/
END:VEVENT
BEGIN:VEVENT
DTSTART;TZID=America/New_York:20271019T190000
DTEND;TZID=America/New_York:20271019T210000
DTSTAMP:20260419T221751
CREATED:20211006T173711Z
LAST-MODIFIED:20211006T173711Z
UID:1724-1823972400-1823979600@yaranyc.com
SUMMARY:Stand-Up Comedy
DESCRIPTION:Stand-Up comedy in bar and lounge at 7pm
URL:https://yaranyc.com/event/stand-up-comedy/2027-10-19/
END:VEVENT
BEGIN:VEVENT
DTSTART;TZID=America/New_York:20271020T183000
DTEND;TZID=America/New_York:20271020T213000
DTSTAMP:20260419T221751
CREATED:20211006T174202Z
LAST-MODIFIED:20211006T174202Z
UID:1725-1824057000-1824067800@yaranyc.com
SUMMARY:Live Jazz in the Lounge
DESCRIPTION:Live Jazz in the Lounge every Wednesday
URL:https://yaranyc.com/event/live-jazz-in-the-lounge/2027-10-20/
END:VEVENT
BEGIN:VEVENT
DTSTART;TZID=America/New_York:20271026T190000
DTEND;TZID=America/New_York:20271026T210000
DTSTAMP:20260419T221751
CREATED:20211006T173711Z
LAST-MODIFIED:20211006T173711Z
UID:1726-1824577200-1824584400@yaranyc.com
SUMMARY:Stand-Up Comedy
DESCRIPTION:Stand-Up comedy in bar and lounge at 7pm
URL:https://yaranyc.com/event/stand-up-comedy/2027-10-26/
END:VEVENT
BEGIN:VEVENT
DTSTART;TZID=America/New_York:20271027T183000
DTEND;TZID=America/New_York:20271027T213000
DTSTAMP:20260419T221751
CREATED:20211006T174202Z
LAST-MODIFIED:20211006T174202Z
UID:1727-1824661800-1824672600@yaranyc.com
SUMMARY:Live Jazz in the Lounge
DESCRIPTION:Live Jazz in the Lounge every Wednesday
URL:https://yaranyc.com/event/live-jazz-in-the-lounge/2027-10-27/
END:VEVENT
BEGIN:VEVENT
DTSTART;TZID=America/New_York:20271102T190000
DTEND;TZID=America/New_York:20271102T210000
DTSTAMP:20260419T221751
CREATED:20211006T173711Z
LAST-MODIFIED:20211006T173711Z
UID:1728-1825182000-1825189200@yaranyc.com
SUMMARY:Stand-Up Comedy
DESCRIPTION:Stand-Up comedy in bar and lounge at 7pm
URL:https://yaranyc.com/event/stand-up-comedy/2027-11-02/
END:VEVENT
BEGIN:VEVENT
DTSTART;TZID=America/New_York:20271103T183000
DTEND;TZID=America/New_York:20271103T213000
DTSTAMP:20260419T221751
CREATED:20211006T174202Z
LAST-MODIFIED:20211006T174202Z
UID:1729-1825266600-1825277400@yaranyc.com
SUMMARY:Live Jazz in the Lounge
DESCRIPTION:Live Jazz in the Lounge every Wednesday
URL:https://yaranyc.com/event/live-jazz-in-the-lounge/2027-11-03/
END:VEVENT
BEGIN:VEVENT
DTSTART;TZID=America/New_York:20271109T190000
DTEND;TZID=America/New_York:20271109T210000
DTSTAMP:20260419T221751
CREATED:20211006T173711Z
LAST-MODIFIED:20211006T173711Z
UID:1730-1825786800-1825794000@yaranyc.com
SUMMARY:Stand-Up Comedy
DESCRIPTION:Stand-Up comedy in bar and lounge at 7pm
URL:https://yaranyc.com/event/stand-up-comedy/2027-11-09/
END:VEVENT
BEGIN:VEVENT
DTSTART;TZID=America/New_York:20271110T183000
DTEND;TZID=America/New_York:20271110T213000
DTSTAMP:20260419T221751
CREATED:20211006T174202Z
LAST-MODIFIED:20211006T174202Z
UID:1731-1825871400-1825882200@yaranyc.com
SUMMARY:Live Jazz in the Lounge
DESCRIPTION:Live Jazz in the Lounge every Wednesday
URL:https://yaranyc.com/event/live-jazz-in-the-lounge/2027-11-10/
END:VEVENT
BEGIN:VEVENT
DTSTART;TZID=America/New_York:20271116T190000
DTEND;TZID=America/New_York:20271116T210000
DTSTAMP:20260419T221751
CREATED:20211006T173711Z
LAST-MODIFIED:20211006T173711Z
UID:1732-1826391600-1826398800@yaranyc.com
SUMMARY:Stand-Up Comedy
DESCRIPTION:Stand-Up comedy in bar and lounge at 7pm
URL:https://yaranyc.com/event/stand-up-comedy/2027-11-16/
END:VEVENT
BEGIN:VEVENT
DTSTART;TZID=America/New_York:20271117T183000
DTEND;TZID=America/New_York:20271117T213000
DTSTAMP:20260419T221751
CREATED:20211006T174202Z
LAST-MODIFIED:20211006T174202Z
UID:1733-1826476200-1826487000@yaranyc.com
SUMMARY:Live Jazz in the Lounge
DESCRIPTION:Live Jazz in the Lounge every Wednesday
URL:https://yaranyc.com/event/live-jazz-in-the-lounge/2027-11-17/
END:VEVENT
BEGIN:VEVENT
DTSTART;TZID=America/New_York:20271123T190000
DTEND;TZID=America/New_York:20271123T210000
DTSTAMP:20260419T221751
CREATED:20211006T173711Z
LAST-MODIFIED:20211006T173711Z
UID:1737-1826996400-1827003600@yaranyc.com
SUMMARY:Stand-Up Comedy
DESCRIPTION:Stand-Up comedy in bar and lounge at 7pm
URL:https://yaranyc.com/event/stand-up-comedy/2027-11-23/
END:VEVENT
BEGIN:VEVENT
DTSTART;TZID=America/New_York:20271124T183000
DTEND;TZID=America/New_York:20271124T213000
DTSTAMP:20260419T221751
CREATED:20211006T174202Z
LAST-MODIFIED:20211006T174202Z
UID:1738-1827081000-1827091800@yaranyc.com
SUMMARY:Live Jazz in the Lounge
DESCRIPTION:Live Jazz in the Lounge every Wednesday
URL:https://yaranyc.com/event/live-jazz-in-the-lounge/2027-11-24/
END:VEVENT
BEGIN:VEVENT
DTSTART;TZID=America/New_York:20271130T190000
DTEND;TZID=America/New_York:20271130T210000
DTSTAMP:20260419T221751
CREATED:20211006T173711Z
LAST-MODIFIED:20211006T173711Z
UID:1739-1827601200-1827608400@yaranyc.com
SUMMARY:Stand-Up Comedy
DESCRIPTION:Stand-Up comedy in bar and lounge at 7pm
URL:https://yaranyc.com/event/stand-up-comedy/2027-11-30/
END:VEVENT
BEGIN:VEVENT
DTSTART;TZID=America/New_York:20271201T183000
DTEND;TZID=America/New_York:20271201T213000
DTSTAMP:20260419T221751
CREATED:20211006T174202Z
LAST-MODIFIED:20211006T174202Z
UID:1740-1827685800-1827696600@yaranyc.com
SUMMARY:Live Jazz in the Lounge
DESCRIPTION:Live Jazz in the Lounge every Wednesday
URL:https://yaranyc.com/event/live-jazz-in-the-lounge/2027-12-01/
END:VEVENT
END:VCALENDAR