BEGIN:VCALENDAR
VERSION:2.0
PRODID:-//Yara - ECPv6.15.20//NONSGML v1.0//EN
CALSCALE:GREGORIAN
METHOD:PUBLISH
X-WR-CALNAME:Yara
X-ORIGINAL-URL:https://yaranyc.com
X-WR-CALDESC:Events for Yara
REFRESH-INTERVAL;VALUE=DURATION:PT1H
X-Robots-Tag:noindex
X-PUBLISHED-TTL:PT1H
BEGIN:VTIMEZONE
TZID:America/New_York
BEGIN:DAYLIGHT
TZOFFSETFROM:-0500
TZOFFSETTO:-0400
TZNAME:EDT
DTSTART:20260308T070000
END:DAYLIGHT
BEGIN:STANDARD
TZOFFSETFROM:-0400
TZOFFSETTO:-0500
TZNAME:EST
DTSTART:20261101T060000
END:STANDARD
BEGIN:DAYLIGHT
TZOFFSETFROM:-0500
TZOFFSETTO:-0400
TZNAME:EDT
DTSTART:20270314T070000
END:DAYLIGHT
BEGIN:STANDARD
TZOFFSETFROM:-0400
TZOFFSETTO:-0500
TZNAME:EST
DTSTART:20271107T060000
END:STANDARD
BEGIN:DAYLIGHT
TZOFFSETFROM:-0500
TZOFFSETTO:-0400
TZNAME:EDT
DTSTART:20280312T070000
END:DAYLIGHT
BEGIN:STANDARD
TZOFFSETFROM:-0400
TZOFFSETTO:-0500
TZNAME:EST
DTSTART:20281105T060000
END:STANDARD
BEGIN:DAYLIGHT
TZOFFSETFROM:-0500
TZOFFSETTO:-0400
TZNAME:EDT
DTSTART:20290311T070000
END:DAYLIGHT
BEGIN:STANDARD
TZOFFSETFROM:-0400
TZOFFSETTO:-0500
TZNAME:EST
DTSTART:20291104T060000
END:STANDARD
END:VTIMEZONE
BEGIN:VEVENT
DTSTART;TZID=America/New_York:20271201T183000
DTEND;TZID=America/New_York:20271201T213000
DTSTAMP:20260420T062957
CREATED:20211006T174202Z
LAST-MODIFIED:20211006T174202Z
UID:1740-1827685800-1827696600@yaranyc.com
SUMMARY:Live Jazz in the Lounge
DESCRIPTION:Live Jazz in the Lounge every Wednesday
URL:https://yaranyc.com/event/live-jazz-in-the-lounge/2027-12-01/
END:VEVENT
BEGIN:VEVENT
DTSTART;TZID=America/New_York:20271207T190000
DTEND;TZID=America/New_York:20271207T210000
DTSTAMP:20260420T062957
CREATED:20211006T173711Z
LAST-MODIFIED:20211006T173711Z
UID:1741-1828206000-1828213200@yaranyc.com
SUMMARY:Stand-Up Comedy
DESCRIPTION:Stand-Up comedy in bar and lounge at 7pm
URL:https://yaranyc.com/event/stand-up-comedy/2027-12-07/
END:VEVENT
BEGIN:VEVENT
DTSTART;TZID=America/New_York:20271208T183000
DTEND;TZID=America/New_York:20271208T213000
DTSTAMP:20260420T062957
CREATED:20211006T174202Z
LAST-MODIFIED:20211006T174202Z
UID:1742-1828290600-1828301400@yaranyc.com
SUMMARY:Live Jazz in the Lounge
DESCRIPTION:Live Jazz in the Lounge every Wednesday
URL:https://yaranyc.com/event/live-jazz-in-the-lounge/2027-12-08/
END:VEVENT
BEGIN:VEVENT
DTSTART;TZID=America/New_York:20271214T190000
DTEND;TZID=America/New_York:20271214T210000
DTSTAMP:20260420T062957
CREATED:20211006T173711Z
LAST-MODIFIED:20211006T173711Z
UID:1750-1828810800-1828818000@yaranyc.com
SUMMARY:Stand-Up Comedy
DESCRIPTION:Stand-Up comedy in bar and lounge at 7pm
URL:https://yaranyc.com/event/stand-up-comedy/2027-12-14/
END:VEVENT
BEGIN:VEVENT
DTSTART;TZID=America/New_York:20271215T183000
DTEND;TZID=America/New_York:20271215T213000
DTSTAMP:20260420T062957
CREATED:20211006T174202Z
LAST-MODIFIED:20211006T174202Z
UID:1751-1828895400-1828906200@yaranyc.com
SUMMARY:Live Jazz in the Lounge
DESCRIPTION:Live Jazz in the Lounge every Wednesday
URL:https://yaranyc.com/event/live-jazz-in-the-lounge/2027-12-15/
END:VEVENT
BEGIN:VEVENT
DTSTART;TZID=America/New_York:20271221T190000
DTEND;TZID=America/New_York:20271221T210000
DTSTAMP:20260420T062957
CREATED:20211006T173711Z
LAST-MODIFIED:20211006T173711Z
UID:1752-1829415600-1829422800@yaranyc.com
SUMMARY:Stand-Up Comedy
DESCRIPTION:Stand-Up comedy in bar and lounge at 7pm
URL:https://yaranyc.com/event/stand-up-comedy/2027-12-21/
END:VEVENT
BEGIN:VEVENT
DTSTART;TZID=America/New_York:20271222T183000
DTEND;TZID=America/New_York:20271222T213000
DTSTAMP:20260420T062957
CREATED:20211006T174202Z
LAST-MODIFIED:20211006T174202Z
UID:1753-1829500200-1829511000@yaranyc.com
SUMMARY:Live Jazz in the Lounge
DESCRIPTION:Live Jazz in the Lounge every Wednesday
URL:https://yaranyc.com/event/live-jazz-in-the-lounge/2027-12-22/
END:VEVENT
BEGIN:VEVENT
DTSTART;TZID=America/New_York:20271228T190000
DTEND;TZID=America/New_York:20271228T210000
DTSTAMP:20260420T062957
CREATED:20211006T173711Z
LAST-MODIFIED:20211006T173711Z
UID:1754-1830020400-1830027600@yaranyc.com
SUMMARY:Stand-Up Comedy
DESCRIPTION:Stand-Up comedy in bar and lounge at 7pm
URL:https://yaranyc.com/event/stand-up-comedy/2027-12-28/
END:VEVENT
BEGIN:VEVENT
DTSTART;TZID=America/New_York:20271229T183000
DTEND;TZID=America/New_York:20271229T213000
DTSTAMP:20260420T062957
CREATED:20211006T174202Z
LAST-MODIFIED:20211006T174202Z
UID:1755-1830105000-1830115800@yaranyc.com
SUMMARY:Live Jazz in the Lounge
DESCRIPTION:Live Jazz in the Lounge every Wednesday
URL:https://yaranyc.com/event/live-jazz-in-the-lounge/2027-12-29/
END:VEVENT
BEGIN:VEVENT
DTSTART;TZID=America/New_York:20280104T190000
DTEND;TZID=America/New_York:20280104T210000
DTSTAMP:20260420T062957
CREATED:20211006T173711Z
LAST-MODIFIED:20211006T173711Z
UID:1760-1830625200-1830632400@yaranyc.com
SUMMARY:Stand-Up Comedy
DESCRIPTION:Stand-Up comedy in bar and lounge at 7pm
URL:https://yaranyc.com/event/stand-up-comedy/2028-01-04/
END:VEVENT
BEGIN:VEVENT
DTSTART;TZID=America/New_York:20280105T183000
DTEND;TZID=America/New_York:20280105T213000
DTSTAMP:20260420T062957
CREATED:20211006T174202Z
LAST-MODIFIED:20211006T174202Z
UID:1763-1830709800-1830720600@yaranyc.com
SUMMARY:Live Jazz in the Lounge
DESCRIPTION:Live Jazz in the Lounge every Wednesday
URL:https://yaranyc.com/event/live-jazz-in-the-lounge/2028-01-05/
END:VEVENT
BEGIN:VEVENT
DTSTART;TZID=America/New_York:20280111T190000
DTEND;TZID=America/New_York:20280111T210000
DTSTAMP:20260420T062957
CREATED:20211006T173711Z
LAST-MODIFIED:20211006T173711Z
UID:1827-1831230000-1831237200@yaranyc.com
SUMMARY:Stand-Up Comedy
DESCRIPTION:Stand-Up comedy in bar and lounge at 7pm
URL:https://yaranyc.com/event/stand-up-comedy/2028-01-11/
END:VEVENT
BEGIN:VEVENT
DTSTART;TZID=America/New_York:20280112T183000
DTEND;TZID=America/New_York:20280112T213000
DTSTAMP:20260420T062957
CREATED:20211006T174202Z
LAST-MODIFIED:20211006T174202Z
UID:1828-1831314600-1831325400@yaranyc.com
SUMMARY:Live Jazz in the Lounge
DESCRIPTION:Live Jazz in the Lounge every Wednesday
URL:https://yaranyc.com/event/live-jazz-in-the-lounge/2028-01-12/
END:VEVENT
BEGIN:VEVENT
DTSTART;TZID=America/New_York:20280118T190000
DTEND;TZID=America/New_York:20280118T210000
DTSTAMP:20260420T062957
CREATED:20211006T173711Z
LAST-MODIFIED:20211006T173711Z
UID:1834-1831834800-1831842000@yaranyc.com
SUMMARY:Stand-Up Comedy
DESCRIPTION:Stand-Up comedy in bar and lounge at 7pm
URL:https://yaranyc.com/event/stand-up-comedy/2028-01-18/
END:VEVENT
BEGIN:VEVENT
DTSTART;TZID=America/New_York:20280119T183000
DTEND;TZID=America/New_York:20280119T213000
DTSTAMP:20260420T062957
CREATED:20211006T174202Z
LAST-MODIFIED:20211006T174202Z
UID:1835-1831919400-1831930200@yaranyc.com
SUMMARY:Live Jazz in the Lounge
DESCRIPTION:Live Jazz in the Lounge every Wednesday
URL:https://yaranyc.com/event/live-jazz-in-the-lounge/2028-01-19/
END:VEVENT
BEGIN:VEVENT
DTSTART;TZID=America/New_York:20280125T190000
DTEND;TZID=America/New_York:20280125T210000
DTSTAMP:20260420T062957
CREATED:20211006T173711Z
LAST-MODIFIED:20211006T173711Z
UID:1841-1832439600-1832446800@yaranyc.com
SUMMARY:Stand-Up Comedy
DESCRIPTION:Stand-Up comedy in bar and lounge at 7pm
URL:https://yaranyc.com/event/stand-up-comedy/2028-01-25/
END:VEVENT
BEGIN:VEVENT
DTSTART;TZID=America/New_York:20280126T183000
DTEND;TZID=America/New_York:20280126T213000
DTSTAMP:20260420T062957
CREATED:20211006T174202Z
LAST-MODIFIED:20211006T174202Z
UID:1843-1832524200-1832535000@yaranyc.com
SUMMARY:Live Jazz in the Lounge
DESCRIPTION:Live Jazz in the Lounge every Wednesday
URL:https://yaranyc.com/event/live-jazz-in-the-lounge/2028-01-26/
END:VEVENT
BEGIN:VEVENT
DTSTART;TZID=America/New_York:20280201T190000
DTEND;TZID=America/New_York:20280201T210000
DTSTAMP:20260420T062957
CREATED:20211006T173711Z
LAST-MODIFIED:20211006T173711Z
UID:1844-1833044400-1833051600@yaranyc.com
SUMMARY:Stand-Up Comedy
DESCRIPTION:Stand-Up comedy in bar and lounge at 7pm
URL:https://yaranyc.com/event/stand-up-comedy/2028-02-01/
END:VEVENT
BEGIN:VEVENT
DTSTART;TZID=America/New_York:20280202T183000
DTEND;TZID=America/New_York:20280202T213000
DTSTAMP:20260420T062957
CREATED:20211006T174202Z
LAST-MODIFIED:20211006T174202Z
UID:1895-1833129000-1833139800@yaranyc.com
SUMMARY:Live Jazz in the Lounge
DESCRIPTION:Live Jazz in the Lounge every Wednesday
URL:https://yaranyc.com/event/live-jazz-in-the-lounge/2028-02-02/
END:VEVENT
BEGIN:VEVENT
DTSTART;TZID=America/New_York:20280208T190000
DTEND;TZID=America/New_York:20280208T210000
DTSTAMP:20260420T062957
CREATED:20211006T173711Z
LAST-MODIFIED:20211006T173711Z
UID:1896-1833649200-1833656400@yaranyc.com
SUMMARY:Stand-Up Comedy
DESCRIPTION:Stand-Up comedy in bar and lounge at 7pm
URL:https://yaranyc.com/event/stand-up-comedy/2028-02-08/
END:VEVENT
BEGIN:VEVENT
DTSTART;TZID=America/New_York:20280209T183000
DTEND;TZID=America/New_York:20280209T213000
DTSTAMP:20260420T062957
CREATED:20211006T174202Z
LAST-MODIFIED:20211006T174202Z
UID:1897-1833733800-1833744600@yaranyc.com
SUMMARY:Live Jazz in the Lounge
DESCRIPTION:Live Jazz in the Lounge every Wednesday
URL:https://yaranyc.com/event/live-jazz-in-the-lounge/2028-02-09/
END:VEVENT
BEGIN:VEVENT
DTSTART;TZID=America/New_York:20280215T190000
DTEND;TZID=America/New_York:20280215T210000
DTSTAMP:20260420T062957
CREATED:20211006T173711Z
LAST-MODIFIED:20211006T173711Z
UID:1901-1834254000-1834261200@yaranyc.com
SUMMARY:Stand-Up Comedy
DESCRIPTION:Stand-Up comedy in bar and lounge at 7pm
URL:https://yaranyc.com/event/stand-up-comedy/2028-02-15/
END:VEVENT
BEGIN:VEVENT
DTSTART;TZID=America/New_York:20280216T183000
DTEND;TZID=America/New_York:20280216T213000
DTSTAMP:20260420T062957
CREATED:20211006T174202Z
LAST-MODIFIED:20211006T174202Z
UID:1902-1834338600-1834349400@yaranyc.com
SUMMARY:Live Jazz in the Lounge
DESCRIPTION:Live Jazz in the Lounge every Wednesday
URL:https://yaranyc.com/event/live-jazz-in-the-lounge/2028-02-16/
END:VEVENT
BEGIN:VEVENT
DTSTART;TZID=America/New_York:20280222T190000
DTEND;TZID=America/New_York:20280222T210000
DTSTAMP:20260420T062957
CREATED:20211006T173711Z
LAST-MODIFIED:20211006T173711Z
UID:1903-1834858800-1834866000@yaranyc.com
SUMMARY:Stand-Up Comedy
DESCRIPTION:Stand-Up comedy in bar and lounge at 7pm
URL:https://yaranyc.com/event/stand-up-comedy/2028-02-22/
END:VEVENT
BEGIN:VEVENT
DTSTART;TZID=America/New_York:20280223T183000
DTEND;TZID=America/New_York:20280223T213000
DTSTAMP:20260420T062957
CREATED:20211006T174202Z
LAST-MODIFIED:20211006T174202Z
UID:1904-1834943400-1834954200@yaranyc.com
SUMMARY:Live Jazz in the Lounge
DESCRIPTION:Live Jazz in the Lounge every Wednesday
URL:https://yaranyc.com/event/live-jazz-in-the-lounge/2028-02-23/
END:VEVENT
BEGIN:VEVENT
DTSTART;TZID=America/New_York:20280229T190000
DTEND;TZID=America/New_York:20280229T210000
DTSTAMP:20260420T062957
CREATED:20211006T173711Z
LAST-MODIFIED:20211006T173711Z
UID:1905-1835463600-1835470800@yaranyc.com
SUMMARY:Stand-Up Comedy
DESCRIPTION:Stand-Up comedy in bar and lounge at 7pm
URL:https://yaranyc.com/event/stand-up-comedy/2028-02-29/
END:VEVENT
BEGIN:VEVENT
DTSTART;TZID=America/New_York:20280301T183000
DTEND;TZID=America/New_York:20280301T213000
DTSTAMP:20260420T062957
CREATED:20211006T174202Z
LAST-MODIFIED:20211006T174202Z
UID:1906-1835548200-1835559000@yaranyc.com
SUMMARY:Live Jazz in the Lounge
DESCRIPTION:Live Jazz in the Lounge every Wednesday
URL:https://yaranyc.com/event/live-jazz-in-the-lounge/2028-03-01/
END:VEVENT
BEGIN:VEVENT
DTSTART;TZID=America/New_York:20280307T190000
DTEND;TZID=America/New_York:20280307T210000
DTSTAMP:20260420T062957
CREATED:20211006T173711Z
LAST-MODIFIED:20211006T173711Z
UID:1907-1836068400-1836075600@yaranyc.com
SUMMARY:Stand-Up Comedy
DESCRIPTION:Stand-Up comedy in bar and lounge at 7pm
URL:https://yaranyc.com/event/stand-up-comedy/2028-03-07/
END:VEVENT
BEGIN:VEVENT
DTSTART;TZID=America/New_York:20280308T183000
DTEND;TZID=America/New_York:20280308T213000
DTSTAMP:20260420T062957
CREATED:20211006T174202Z
LAST-MODIFIED:20211006T174202Z
UID:1908-1836153000-1836163800@yaranyc.com
SUMMARY:Live Jazz in the Lounge
DESCRIPTION:Live Jazz in the Lounge every Wednesday
URL:https://yaranyc.com/event/live-jazz-in-the-lounge/2028-03-08/
END:VEVENT
BEGIN:VEVENT
DTSTART;TZID=America/New_York:20280314T190000
DTEND;TZID=America/New_York:20280314T210000
DTSTAMP:20260420T062957
CREATED:20211006T173711Z
LAST-MODIFIED:20211006T173711Z
UID:1909-1836673200-1836680400@yaranyc.com
SUMMARY:Stand-Up Comedy
DESCRIPTION:Stand-Up comedy in bar and lounge at 7pm
URL:https://yaranyc.com/event/stand-up-comedy/2028-03-14/
END:VEVENT
END:VCALENDAR