BEGIN:VCALENDAR
VERSION:2.0
PRODID:-//Yara - ECPv6.15.20//NONSGML v1.0//EN
CALSCALE:GREGORIAN
METHOD:PUBLISH
X-WR-CALNAME:Yara
X-ORIGINAL-URL:https://yaranyc.com
X-WR-CALDESC:Events for Yara
REFRESH-INTERVAL;VALUE=DURATION:PT1H
X-Robots-Tag:noindex
X-PUBLISHED-TTL:PT1H
BEGIN:VTIMEZONE
TZID:America/New_York
BEGIN:DAYLIGHT
TZOFFSETFROM:-0500
TZOFFSETTO:-0400
TZNAME:EDT
DTSTART:20230312T070000
END:DAYLIGHT
BEGIN:STANDARD
TZOFFSETFROM:-0400
TZOFFSETTO:-0500
TZNAME:EST
DTSTART:20231105T060000
END:STANDARD
BEGIN:DAYLIGHT
TZOFFSETFROM:-0500
TZOFFSETTO:-0400
TZNAME:EDT
DTSTART:20240310T070000
END:DAYLIGHT
BEGIN:STANDARD
TZOFFSETFROM:-0400
TZOFFSETTO:-0500
TZNAME:EST
DTSTART:20241103T060000
END:STANDARD
BEGIN:DAYLIGHT
TZOFFSETFROM:-0500
TZOFFSETTO:-0400
TZNAME:EDT
DTSTART:20250309T070000
END:DAYLIGHT
BEGIN:STANDARD
TZOFFSETFROM:-0400
TZOFFSETTO:-0500
TZNAME:EST
DTSTART:20251102T060000
END:STANDARD
END:VTIMEZONE
BEGIN:VEVENT
DTSTART;TZID=America/New_York:20240703T183000
DTEND;TZID=America/New_York:20240703T213000
DTSTAMP:20260420T130935
CREATED:20211006T174202Z
LAST-MODIFIED:20211006T174202Z
UID:1162-1720031400-1720042200@yaranyc.com
SUMMARY:Live Jazz in the Lounge
DESCRIPTION:Live Jazz in the Lounge every Wednesday
URL:https://yaranyc.com/event/live-jazz-in-the-lounge/2024-07-03/
END:VEVENT
BEGIN:VEVENT
DTSTART;TZID=America/New_York:20240709T190000
DTEND;TZID=America/New_York:20240709T210000
DTSTAMP:20260420T130935
CREATED:20211006T173711Z
LAST-MODIFIED:20211006T173711Z
UID:872-1720551600-1720558800@yaranyc.com
SUMMARY:Stand-Up Comedy
DESCRIPTION:Stand-Up comedy in bar and lounge at 7pm
URL:https://yaranyc.com/event/stand-up-comedy/2024-07-09/
END:VEVENT
BEGIN:VEVENT
DTSTART;TZID=America/New_York:20240710T183000
DTEND;TZID=America/New_York:20240710T213000
DTSTAMP:20260420T130935
CREATED:20211006T174202Z
LAST-MODIFIED:20211006T174202Z
UID:1163-1720636200-1720647000@yaranyc.com
SUMMARY:Live Jazz in the Lounge
DESCRIPTION:Live Jazz in the Lounge every Wednesday
URL:https://yaranyc.com/event/live-jazz-in-the-lounge/2024-07-10/
END:VEVENT
BEGIN:VEVENT
DTSTART;TZID=America/New_York:20240716T190000
DTEND;TZID=America/New_York:20240716T210000
DTSTAMP:20260420T130935
CREATED:20211006T173711Z
LAST-MODIFIED:20211006T173711Z
UID:874-1721156400-1721163600@yaranyc.com
SUMMARY:Stand-Up Comedy
DESCRIPTION:Stand-Up comedy in bar and lounge at 7pm
URL:https://yaranyc.com/event/stand-up-comedy/2024-07-16/
END:VEVENT
BEGIN:VEVENT
DTSTART;TZID=America/New_York:20240717T183000
DTEND;TZID=America/New_York:20240717T213000
DTSTAMP:20260420T130935
CREATED:20211006T174202Z
LAST-MODIFIED:20211006T174202Z
UID:1164-1721241000-1721251800@yaranyc.com
SUMMARY:Live Jazz in the Lounge
DESCRIPTION:Live Jazz in the Lounge every Wednesday
URL:https://yaranyc.com/event/live-jazz-in-the-lounge/2024-07-17/
END:VEVENT
BEGIN:VEVENT
DTSTART;TZID=America/New_York:20240723T190000
DTEND;TZID=America/New_York:20240723T210000
DTSTAMP:20260420T130935
CREATED:20211006T173711Z
LAST-MODIFIED:20211006T173711Z
UID:1174-1721761200-1721768400@yaranyc.com
SUMMARY:Stand-Up Comedy
DESCRIPTION:Stand-Up comedy in bar and lounge at 7pm
URL:https://yaranyc.com/event/stand-up-comedy/2024-07-23/
END:VEVENT
BEGIN:VEVENT
DTSTART;TZID=America/New_York:20240724T183000
DTEND;TZID=America/New_York:20240724T213000
DTSTAMP:20260420T130935
CREATED:20211006T174202Z
LAST-MODIFIED:20211006T174202Z
UID:1175-1721845800-1721856600@yaranyc.com
SUMMARY:Live Jazz in the Lounge
DESCRIPTION:Live Jazz in the Lounge every Wednesday
URL:https://yaranyc.com/event/live-jazz-in-the-lounge/2024-07-24/
END:VEVENT
BEGIN:VEVENT
DTSTART;TZID=America/New_York:20240730T190000
DTEND;TZID=America/New_York:20240730T210000
DTSTAMP:20260420T130935
CREATED:20211006T173711Z
LAST-MODIFIED:20211006T173711Z
UID:1176-1722366000-1722373200@yaranyc.com
SUMMARY:Stand-Up Comedy
DESCRIPTION:Stand-Up comedy in bar and lounge at 7pm
URL:https://yaranyc.com/event/stand-up-comedy/2024-07-30/
END:VEVENT
BEGIN:VEVENT
DTSTART;TZID=America/New_York:20240731T183000
DTEND;TZID=America/New_York:20240731T213000
DTSTAMP:20260420T130935
CREATED:20211006T174202Z
LAST-MODIFIED:20211006T174202Z
UID:1177-1722450600-1722461400@yaranyc.com
SUMMARY:Live Jazz in the Lounge
DESCRIPTION:Live Jazz in the Lounge every Wednesday
URL:https://yaranyc.com/event/live-jazz-in-the-lounge/2024-07-31/
END:VEVENT
END:VCALENDAR