BEGIN:VCALENDAR
VERSION:2.0
PRODID:-//Yara - ECPv6.15.20//NONSGML v1.0//EN
CALSCALE:GREGORIAN
METHOD:PUBLISH
X-WR-CALNAME:Yara
X-ORIGINAL-URL:https://yaranyc.com
X-WR-CALDESC:Events for Yara
REFRESH-INTERVAL;VALUE=DURATION:PT1H
X-Robots-Tag:noindex
X-PUBLISHED-TTL:PT1H
BEGIN:VTIMEZONE
TZID:America/New_York
BEGIN:DAYLIGHT
TZOFFSETFROM:-0500
TZOFFSETTO:-0400
TZNAME:EDT
DTSTART:20260308T070000
END:DAYLIGHT
BEGIN:STANDARD
TZOFFSETFROM:-0400
TZOFFSETTO:-0500
TZNAME:EST
DTSTART:20261101T060000
END:STANDARD
BEGIN:DAYLIGHT
TZOFFSETFROM:-0500
TZOFFSETTO:-0400
TZNAME:EDT
DTSTART:20270314T070000
END:DAYLIGHT
BEGIN:STANDARD
TZOFFSETFROM:-0400
TZOFFSETTO:-0500
TZNAME:EST
DTSTART:20271107T060000
END:STANDARD
BEGIN:DAYLIGHT
TZOFFSETFROM:-0500
TZOFFSETTO:-0400
TZNAME:EDT
DTSTART:20280312T070000
END:DAYLIGHT
BEGIN:STANDARD
TZOFFSETFROM:-0400
TZOFFSETTO:-0500
TZNAME:EST
DTSTART:20281105T060000
END:STANDARD
END:VTIMEZONE
BEGIN:VEVENT
DTSTART;TZID=America/New_York:20270302T190000
DTEND;TZID=America/New_York:20270302T210000
DTSTAMP:20260420T154746
CREATED:20211006T173711Z
LAST-MODIFIED:20211006T173711Z
UID:1618-1804014000-1804021200@yaranyc.com
SUMMARY:Stand-Up Comedy
DESCRIPTION:Stand-Up comedy in bar and lounge at 7pm
URL:https://yaranyc.com/event/stand-up-comedy/2027-03-02/
END:VEVENT
BEGIN:VEVENT
DTSTART;TZID=America/New_York:20270303T183000
DTEND;TZID=America/New_York:20270303T213000
DTSTAMP:20260420T154746
CREATED:20211006T174202Z
LAST-MODIFIED:20211006T174202Z
UID:1619-1804098600-1804109400@yaranyc.com
SUMMARY:Live Jazz in the Lounge
DESCRIPTION:Live Jazz in the Lounge every Wednesday
URL:https://yaranyc.com/event/live-jazz-in-the-lounge/2027-03-03/
END:VEVENT
BEGIN:VEVENT
DTSTART;TZID=America/New_York:20270309T190000
DTEND;TZID=America/New_York:20270309T210000
DTSTAMP:20260420T154746
CREATED:20211006T173711Z
LAST-MODIFIED:20211006T173711Z
UID:1620-1804618800-1804626000@yaranyc.com
SUMMARY:Stand-Up Comedy
DESCRIPTION:Stand-Up comedy in bar and lounge at 7pm
URL:https://yaranyc.com/event/stand-up-comedy/2027-03-09/
END:VEVENT
BEGIN:VEVENT
DTSTART;TZID=America/New_York:20270310T183000
DTEND;TZID=America/New_York:20270310T213000
DTSTAMP:20260420T154746
CREATED:20211006T174202Z
LAST-MODIFIED:20211006T174202Z
UID:1621-1804703400-1804714200@yaranyc.com
SUMMARY:Live Jazz in the Lounge
DESCRIPTION:Live Jazz in the Lounge every Wednesday
URL:https://yaranyc.com/event/live-jazz-in-the-lounge/2027-03-10/
END:VEVENT
BEGIN:VEVENT
DTSTART;TZID=America/New_York:20270316T190000
DTEND;TZID=America/New_York:20270316T210000
DTSTAMP:20260420T154746
CREATED:20211006T173711Z
LAST-MODIFIED:20211006T173711Z
UID:1622-1805223600-1805230800@yaranyc.com
SUMMARY:Stand-Up Comedy
DESCRIPTION:Stand-Up comedy in bar and lounge at 7pm
URL:https://yaranyc.com/event/stand-up-comedy/2027-03-16/
END:VEVENT
BEGIN:VEVENT
DTSTART;TZID=America/New_York:20270317T183000
DTEND;TZID=America/New_York:20270317T213000
DTSTAMP:20260420T154746
CREATED:20211006T174202Z
LAST-MODIFIED:20211006T174202Z
UID:1623-1805308200-1805319000@yaranyc.com
SUMMARY:Live Jazz in the Lounge
DESCRIPTION:Live Jazz in the Lounge every Wednesday
URL:https://yaranyc.com/event/live-jazz-in-the-lounge/2027-03-17/
END:VEVENT
BEGIN:VEVENT
DTSTART;TZID=America/New_York:20270323T190000
DTEND;TZID=America/New_York:20270323T210000
DTSTAMP:20260420T154746
CREATED:20211006T173711Z
LAST-MODIFIED:20211006T173711Z
UID:1624-1805828400-1805835600@yaranyc.com
SUMMARY:Stand-Up Comedy
DESCRIPTION:Stand-Up comedy in bar and lounge at 7pm
URL:https://yaranyc.com/event/stand-up-comedy/2027-03-23/
END:VEVENT
BEGIN:VEVENT
DTSTART;TZID=America/New_York:20270324T183000
DTEND;TZID=America/New_York:20270324T213000
DTSTAMP:20260420T154746
CREATED:20211006T174202Z
LAST-MODIFIED:20211006T174202Z
UID:1625-1805913000-1805923800@yaranyc.com
SUMMARY:Live Jazz in the Lounge
DESCRIPTION:Live Jazz in the Lounge every Wednesday
URL:https://yaranyc.com/event/live-jazz-in-the-lounge/2027-03-24/
END:VEVENT
BEGIN:VEVENT
DTSTART;TZID=America/New_York:20270330T190000
DTEND;TZID=America/New_York:20270330T210000
DTSTAMP:20260420T154746
CREATED:20211006T173711Z
LAST-MODIFIED:20211006T173711Z
UID:1626-1806433200-1806440400@yaranyc.com
SUMMARY:Stand-Up Comedy
DESCRIPTION:Stand-Up comedy in bar and lounge at 7pm
URL:https://yaranyc.com/event/stand-up-comedy/2027-03-30/
END:VEVENT
BEGIN:VEVENT
DTSTART;TZID=America/New_York:20270331T183000
DTEND;TZID=America/New_York:20270331T213000
DTSTAMP:20260420T154746
CREATED:20211006T174202Z
LAST-MODIFIED:20211006T174202Z
UID:1627-1806517800-1806528600@yaranyc.com
SUMMARY:Live Jazz in the Lounge
DESCRIPTION:Live Jazz in the Lounge every Wednesday
URL:https://yaranyc.com/event/live-jazz-in-the-lounge/2027-03-31/
END:VEVENT
END:VCALENDAR